BEGIN:VCALENDAR
VERSION:2.0
PRODID:-//https://retro.hcc.nl///NONSGML kigkonsult.se iCalcreator 2.10.15//
METHOD:PUBLISH
BEGIN:VEVENT
UID:20260424T131808CEST-3905Nv2Ctg@https://retro.hcc.nl/
DTSTAMP:20260424T111808Z
DESCRIPTION:Ben je ook geïnteresseerd in oude computers / software / elektr
 onica?\nNewBrain\, Amstrad\, Sinclair\, Tandy\, Bondwell\, Acorn\, etc\, e
 tc\,\nIedereen en elk merk is van harte welkom (Wat electronica betreft zi
 jn wij dol op projecten met Arduino’s en Raspberry Pi’s of eigenlijk elk a
 nder project )\nNeem een oude computer\, soldeerbout\, of anders een paar 
 goede herinneringen uit de oude doos mee. We gaan er weer een gezellige da
 g van maken!\nDe koffie staat klaar. We zien je graag in Bilthoven.\nGebou
 wtje naast de Zuiderkapel https://retro.hcc.nl/agenda/evenement/31-hcc-ret
 ro-bijeenkomst-bilthoven
DTSTART:20260530T080000Z
DTEND:20260530T140100Z
LOCATION:Wijkgebouw bij de Zuiderkapel (Boslaan 3\, 3722 BA Bilthoven)
SUMMARY:HCC!Retro bijeenkomst  Bilthoven
URL:https://retro.hcc.nl/agenda/evenement/31-hcc-retro-bijeenkomst-bilthove
 n
END:VEVENT
END:VCALENDAR
