BEGIN:VCALENDAR
VERSION:2.0
PRODID:-//https://retro.hcc.nl///NONSGML kigkonsult.se iCalcreator 2.10.15//
METHOD:PUBLISH
BEGIN:VEVENT
UID:20260425T140717CEST-7384UCrF3U@https://retro.hcc.nl/
DTSTAMP:20260425T120717Z
DESCRIPTION:Ben je ook geïnteresseerd in oude computers / software / elektr
 onica?\nNewBrain\, Amstrad\, Sinclair\, Tandy\, Bondwell\, Acorn\, etc\, e
 tc\,\nIedereen en elk merk is van harte welkom (Wat electronica betreft zi
 jn wij dol op projecten met Arduino’s en Raspberry Pi’s of eigenlijk elk a
 nder project )\nNeem een oude computer\, soldeerbout\, of anders een paar 
 goede herinneringen uit de oude doos mee. We gaan er weer een gezellige da
 g van maken!\nDe koffie staat klaar. We zien je graag in Bilthoven.\nGebou
 wtje naast de Zuiderkapel https://retro.hcc.nl/component/rseventspro/evene
 ment/33-hcc-retro-bijeenkomst-bilthoven?Itemid=101
DTSTART:20261031T090000Z
DTEND:20261031T150100Z
LOCATION:Wijkgebouw bij de Zuiderkapel (Boslaan 3\, 3722 BA Bilthoven)
SUMMARY:HCC!Retro bijeenkomst  Bilthoven
URL:https://retro.hcc.nl/component/rseventspro/evenement/33-hcc-retro-bijee
 nkomst-bilthoven?Itemid=101
END:VEVENT
END:VCALENDAR
